View In:
ArcGIS JavaScript
ArcGIS Online Map Viewer
ArcGIS Earth
Service Description: ONRC/ForksTopography
Name: ONRC/ForksTopography
Description:
Single Fused Map Cache: false
Extent:
XMin: -1.387820130842421E7
YMin: 6084881.120886435
XMax: -1.3821118859859314E7
YMax: 6121793.69391158
Spatial Reference: 102100
(3857)
Initial Extent:
XMin: -1.387820130842421E7
YMin: 6084881.120886435
XMax: -1.3821118859859314E7
YMax: 6121793.69391158
Spatial Reference: 102100
(3857)
Full Extent:
XMin: -1.387820130842421E7
YMin: 6084881.120886435
XMax: -1.3821118859859314E7
YMax: 6121793.69391158
Spatial Reference: 102100
(3857)
Pixel Size X: 1.8288036576072906
Pixel Size Y: 1.8288036576072912
Band Count: 1
Pixel Type: U8
RasterFunction Infos: {"rasterFunctionInfos": [{
"name": "None",
"description": "",
"help": ""
}]}
Mensuration Capabilities: Basic
Inspection Capabilities:
Has Histograms: true
Has Colormap: false
Has Multi Dimensions : false
Rendering Rule:
Min Scale: 0
Max Scale: 0
Copyright Text:
Service Data Type: esriImageServiceDataTypeGeneric
Min Values: 0
Max Values: 254
Mean Values: 163.96087641689732
Standard Deviation Values: 56.25486133979879
Object ID Field:
Fields:
None
Default Mosaic Method: Center
Allowed Mosaic Methods:
SortField:
SortValue: null
Mosaic Operator: First
Default Compression Quality: 75
Default Resampling Method: Bilinear
Max Record Count: null
Max Image Height: 4100
Max Image Width: 15000
Max Download Image Count: null
Max Mosaic Image Count: null
Allow Raster Function: false
Allow Copy: true
Allow Analysis: true
Allow Compute TiePoints: false
Supports Statistics: false
Supports Advanced Queries: false
Use StandardizedQueries: true
Raster Type Infos:
Name: Raster Dataset
Description: Supports all ArcGIS Raster Datasets
Help:
Has Raster Attribute Table: true
Edit Fields Info: null
Ownership Based AccessControl For Rasters: null
Child Resources:
Info
Raster Attribute Table
Histograms
Statistics
Key Properties
Legend
Raster Function Infos
Supported Operations:
Export Image
Identify
Measure
Compute Histograms
Compute Statistics Histograms
Get Samples
Compute Class Statistics
Query Boundary
Compute Pixel Location
Compute Angles
Validate
Project