View In:
ArcGIS JavaScript
ArcGIS Online Map Viewer
ArcGIS Earth
Service Description: Topography/WADNR_30M_SLOPE
Name: Topography/WADNR_30M_SLOPE
Description:
Single Fused Map Cache: false
Extent:
XMin: 576748.17086325
YMin: 81865.81558309984
XMax: 2551249.1258632503
YMax: 1355622.9455831
Spatial Reference: 2927
(2927)
LatestVCSWkid(0)
Initial Extent:
XMin: 576748.17086325
YMin: 81865.81558309984
XMax: 2551249.1258632503
YMax: 1355622.9455831
Spatial Reference: 2927
(2927)
LatestVCSWkid(0)
Full Extent:
XMin: 576748.17086325
YMin: 81865.81558309984
XMax: 2551249.1258632503
YMax: 1355622.9455831
Spatial Reference: 2927
(2927)
LatestVCSWkid(0)
Pixel Size X: 104.35500000000002
Pixel Size Y: 104.355
Band Count: 1
Pixel Type: F32
RasterFunction Infos: {"rasterFunctionInfos": [{
"name": "None",
"description": "",
"help": ""
}]}
Mensuration Capabilities: Basic
Inspection Capabilities:
Has Histograms: true
Has Colormap: false
Has Multi Dimensions : false
Rendering Rule:
Min Scale: 0
Max Scale: 0
Copyright Text:
Service Data Type: esriImageServiceDataTypeGeneric
Min Values: 0
Max Values: 2286.602294921875
Mean Values: 21.66765634812317
Standard Deviation Values: 23.538898567793616
Object ID Field:
Fields:
None
Default Mosaic Method: Center
Allowed Mosaic Methods:
SortField:
SortValue: null
Mosaic Operator: First
Default Compression Quality: 75
Default Resampling Method: Bilinear
Max Record Count: null
Max Image Height: 4100
Max Image Width: 15000
Max Download Image Count: null
Max Mosaic Image Count: null
Allow Raster Function: true
Allow Copy: true
Allow Analysis: true
Allow Compute TiePoints: false
Supports Statistics: false
Supports Advanced Queries: false
Use StandardizedQueries: true
Raster Type Infos:
Name: Raster Dataset
Description: Supports all ArcGIS Raster Datasets
Help:
Has Raster Attribute Table: false
Edit Fields Info: null
Ownership Based AccessControl For Rasters: null
Child Resources:
Info
Histograms
Statistics
Key Properties
Legend
Raster Function Infos
Supported Operations:
Export Image
Identify
Measure
Compute Histograms
Compute Statistics Histograms
Get Samples
Compute Class Statistics
Query Boundary
Compute Pixel Location
Compute Angles
Validate
Project